{"text_format":"2","workbook":"xlsx","n_sheets":1,"sheets":["Sheet1"],"not_rendered":{"charts":0,"images":1,"macros":0,"external_links":1,"defined_names":0,"comments":0,"pivot_tables":0},"unopened":[],"bounds":{"document_bytes":16777216,"sheet_cells":100000,"run_cost":"one","rows_first":2000,"rows_last":500,"rows_between":2000,"halvings":0,"cell_chars":16384,"cell_head_chars":4096},"cells_cut":0,"cells_raw":0,"read":"whole","date_system":"1900"}

{"sheet":"Sheet1","index":0,"n_rows":28,"n_cols":5,"rows_kept":28,"cut":false,"hidden":false,"merged":[[0,0,0,4]]}
["2026년 2월말 퇴직교원 정부포상 추천자 명단"]
[]
["연번","소속(추천기관)","성명","재직기간","추천훈격"]
[{"$f":"ROW()-3","v":1},"성균관대학교","국신호",{"$f":"VLOOKUP($C4,'[1]재직기간 합산'!$A$2:$E$26,4,0)","v":"28년11월27일"},{"$f":"VLOOKUP($C4,'[1]재직기간 합산'!$A$2:$E$26,5,0)","v":"대통령표창"}]
[{"$f":"ROW()-3","v":2},"성균관대학교","김예상",{"$f":"VLOOKUP($C5,'[1]재직기간 합산'!$A$2:$E$26,4,0)","v":"31년5월25일"},{"$f":"VLOOKUP($C5,'[1]재직기간 합산'!$A$2:$E$26,5,0)","v":"근정포장"}]
[3,"성균관대학교","김윤제",{"$f":"VLOOKUP($C6,'[1]재직기간 합산'!$A$2:$E$26,4,0)","v":"33년1월14일"},{"$f":"VLOOKUP($C6,'[1]재직기간 합산'!$A$2:$E$26,5,0)","v":"근정훈장(옥조)"}]
[4,"성균관대학교","김종원",{"$f":"VLOOKUP($C7,'[1]재직기간 합산'!$A$2:$E$26,4,0)","v":"31년2월27일"},{"$f":"VLOOKUP($C7,'[1]재직기간 합산'!$A$2:$E$26,5,0)","v":"근정포장"}]
[5,"성균관대학교","김철환",{"$f":"VLOOKUP($C8,'[1]재직기간 합산'!$A$2:$E$26,4,0)","v":"37년5월22일"},{"$f":"VLOOKUP($C8,'[1]재직기간 합산'!$A$2:$E$26,5,0)","v":"근정훈장(녹조)"}]
[6,"성균관대학교","박기태",{"$f":"VLOOKUP($C9,'[1]재직기간 합산'!$A$2:$E$26,4,0)","v":"25년11월27일"},{"$f":"VLOOKUP($C9,'[1]재직기간 합산'!$A$2:$E$26,5,0)","v":"국무총리표창"}]
[7,"성균관대학교","박천석",{"$f":"VLOOKUP($C10,'[1]재직기간 합산'!$A$2:$E$26,4,0)","v":"34년6월24일"},{"$f":"VLOOKUP($C10,'[1]재직기간 합산'!$A$2:$E$26,5,0)","v":"근정훈장(옥조)"}]
[8,"성균관대학교","방사익",{"$f":"VLOOKUP($C11,'[1]재직기간 합산'!$A$2:$E$26,4,0)","v":"32년11월18일"},{"$f":"VLOOKUP($C11,'[1]재직기간 합산'!$A$2:$E$26,5,0)","v":"근정포장"}]
[9,"성균관대학교","배재문",{"$f":"VLOOKUP($C12,'[1]재직기간 합산'!$A$2:$E$26,4,0)","v":"27년2월8일"},{"$f":"VLOOKUP($C12,'[1]재직기간 합산'!$A$2:$E$26,5,0)","v":"국무총리표창"}]
[10,"성균관대학교","서용원",{"$f":"VLOOKUP($C13,'[1]재직기간 합산'!$A$2:$E$26,4,0)","v":"34년5월27일"},{"$f":"VLOOKUP($C13,'[1]재직기간 합산'!$A$2:$E$26,5,0)","v":"근정훈장(옥조)"}]
[11,"성균관대학교","안태규",{"$f":"VLOOKUP($C14,'[1]재직기간 합산'!$A$2:$E$26,4,0)","v":"17년11월3일"},{"$f":"VLOOKUP($C14,'[1]재직기간 합산'!$A$2:$E$26,5,0)","v":"장관표창"}]
[12,"성균관대학교","엄영익",{"$f":"VLOOKUP($C15,'[1]재직기간 합산'!$A$2:$E$26,4,0)","v":"42년8월13일"},{"$f":"VLOOKUP($C15,'[1]재직기간 합산'!$A$2:$E$26,5,0)","v":"근정훈장(황조)"}]
[13,"성균관대학교","오세열",{"$f":"VLOOKUP($C16,'[1]재직기간 합산'!$A$2:$E$26,4,0)","v":"31년1월5일"},{"$f":"VLOOKUP($C16,'[1]재직기간 합산'!$A$2:$E$26,5,0)","v":"근정포장"}]
[14,"성균관대학교","윤대호",{"$f":"VLOOKUP($C17,'[1]재직기간 합산'!$A$2:$E$26,4,0)","v":"33년11월27일"},{"$f":"VLOOKUP($C17,'[1]재직기간 합산'!$A$2:$E$26,5,0)","v":"근정훈장(옥조)"}]
[15,"성균관대학교","이경한",{"$f":"VLOOKUP($C18,'[1]재직기간 합산'!$A$2:$E$26,4,0)","v":"32년0월14일"},{"$f":"VLOOKUP($C18,'[1]재직기간 합산'!$A$2:$E$26,5,0)","v":"근정포장"}]
[16,"성균관대학교","이광명",{"$f":"VLOOKUP($C19,'[1]재직기간 합산'!$A$2:$E$26,4,0)","v":"32년5월25일"},{"$f":"VLOOKUP($C19,'[1]재직기간 합산'!$A$2:$E$26,5,0)","v":"근정포장"}]
[17,"성균관대학교","이영제",{"$f":"VLOOKUP($C20,'[1]재직기간 합산'!$A$2:$E$26,4,0)","v":"34년11월25일"},{"$f":"VLOOKUP($C20,'[1]재직기간 합산'!$A$2:$E$26,5,0)","v":"근정훈장(옥조)"}]
[18,"성균관대학교","이재찬",{"$f":"VLOOKUP($C21,'[1]재직기간 합산'!$A$2:$E$26,4,0)","v":"35년11월1일"},{"$f":"VLOOKUP($C21,'[1]재직기간 합산'!$A$2:$E$26,5,0)","v":"근정훈장(옥조)"}]
[19,"성균관대학교","전경수",{"$f":"VLOOKUP($C22,'[1]재직기간 합산'!$A$2:$E$26,4,0)","v":"32년5월25일"},{"$f":"VLOOKUP($C22,'[1]재직기간 합산'!$A$2:$E$26,5,0)","v":"근정포장"}]
[20,"성균관대학교","정성권",{"$f":"VLOOKUP($C23,'[1]재직기간 합산'!$A$2:$E$26,4,0)","v":"30년5월25일"},{"$f":"VLOOKUP($C23,'[1]재직기간 합산'!$A$2:$E$26,5,0)","v":"근정포장"}]
[21,"성균관대학교","정재훈",{"$f":"VLOOKUP($C24,'[1]재직기간 합산'!$A$2:$E$26,4,0)","v":"31년0월13일"},{"$f":"VLOOKUP($C24,'[1]재직기간 합산'!$A$2:$E$26,5,0)","v":"근정포장"}]
[22,"성균관대학교","정홍주",{"$f":"VLOOKUP($C25,'[1]재직기간 합산'!$A$2:$E$26,4,0)","v":"34년11월27일"},{"$f":"VLOOKUP($C25,'[1]재직기간 합산'!$A$2:$E$26,5,0)","v":"근정훈장(옥조)"}]
[23,"성균관대학교","최연현",{"$f":"VLOOKUP($C26,'[1]재직기간 합산'!$A$2:$E$26,4,0)","v":"32년0월10일"},{"$f":"VLOOKUP($C26,'[1]재직기간 합산'!$A$2:$E$26,5,0)","v":"근정포장"}]
[24,"성균관대학교","한영이",{"$f":"VLOOKUP($C27,'[1]재직기간 합산'!$A$2:$E$26,4,0)","v":"21년5월27일"},{"$f":"VLOOKUP($C27,'[1]재직기간 합산'!$A$2:$E$26,5,0)","v":"장관표창"}]
[25,"성균관대학교","한정환",{"$f":"VLOOKUP($C28,'[1]재직기간 합산'!$A$2:$E$26,4,0)","v":"30년5월27일"},{"$f":"VLOOKUP($C28,'[1]재직기간 합산'!$A$2:$E$26,5,0)","v":"근정포장"}]